View In:
ArcGIS JavaScript
ArcGIS Online Map Viewer
ArcGIS Earth
ArcGIS Pro
Service Description:
Map Name: Map
Legend
All Layers and Tables
Layers:
Description: <DIV STYLE="text-align:Left;"><DIV><DIV><P><SPAN>This raster represents aerial imagery of the existing conditions for the focal reach study area on the Trinity River located in Trinity County, CA. This raster is an orthorectified, georeferenced, image presented as a JPEG2000 (*.jp2) format. For details on methodology, accuracy and data acquisition see accompanying report (2024 Trinity River Focal Reach 4-Band Orthophotography Report). The dataset is projected in California State Plane Zone 1, the horizontal datum is NAD83(1992) Epoch 1991.35, the vertical datum is NAVD88,(Geoid09), and units are in US survey feet. The Orthoimagery data was collected on August 30, 2024.</SPAN></P></DIV></DIV></DIV>
Service Item Id: e9b236987d294d8e880b82bd6355559f
Copyright Text: Yurok Tribe
Spatial Reference:
102100
(3857)
LatestVCSWkid(0)
Single Fused Map Cache: true
Tile Info:
- Height: 256.0
- Width: 256.0
- DPI: 96.0
-
Levels of Detail: 24
-
Level ID: 1
[ Start Tile, End Tile ]
- Resolution: 78271.5169639999
- Scale: 2.95828763795777E8
-
Level ID: 2
[ Start Tile, End Tile ]
- Resolution: 39135.7584820001
- Scale: 1.47914381897889E8
-
Level ID: 3
[ Start Tile, End Tile ]
- Resolution: 19567.8792409999
- Scale: 7.3957190948944E7
-
Level ID: 4
[ Start Tile, End Tile ]
- Resolution: 9783.93962049996
- Scale: 3.6978595474472E7
-
Level ID: 5
[ Start Tile, End Tile ]
- Resolution: 4891.96981024998
- Scale: 1.8489297737236E7
- Format: Mixed
- Compression Quality: 75.0
- Origin: X: -2.0037508342787E7
Y: 2.0037508342787E7
- Spatial Reference: 102100
(3857)
LatestVCSWkid(0)
Initial Extent:
XMin: -1.3699520596729092E7
YMin: 4953862.915631112
XMax: -1.3675840822168268E7
YMax: 4984721.204527302
Spatial Reference: 102100
(3857)
LatestVCSWkid(0)
Full Extent:
XMin: -1.370719491164134E7
YMin: 4959071.32009409
XMax: -1.366816650725602E7
YMax: 4979512.8000643235
Spatial Reference: 102100
(3857)
LatestVCSWkid(0)
Units: esriMeters
Supported Image Format Types: PNG32,PNG24,PNG,JPG,DIB,TIFF,EMF,PS,PDF,GIF,SVG,SVGZ,BMP
Document Info:
Title: D:\Projects\TRRP\TRRP Publish 2022\TRRP Publish 2022.aprx
Author:
Comments:
Subject:
Category:
Keywords:
AntialiasingMode: None
TextAntialiasingMode: Force
Supports Dynamic Layers: false
MaxRecordCount: 1000
MaxSelectionCount: 0
MaxImageHeight: 4096
MaxImageWidth: 4096
Supported Query Formats: JSON, geoJSON, PBF
Supports Query Data Elements: true
Min Scale: 144447.638572
Max Scale: 2256.994353
Min LOD: 12
Max LOD: 18
Supports Datum Transformation: true
Child Resources:
Info
Supported Operations:
QueryLegends
Return Updates