View In:
ArcGIS JavaScript
ArcGIS Online Map Viewer
ArcGIS Earth
ArcGIS Pro
Service Description:
Map Name: Map
Legend
All Layers and Tables
Layers:
Description: <DIV STYLE="text-align:Left;"><DIV><DIV><P><SPAN>This dataset represents a true-color plus infrared orthophoto (4-band) mosaic of the </SPAN><SPAN><SPAN>Trinity River </SPAN></SPAN><SPAN>study area located in Trinity County, California. The data were delivered as a 3-band RGB and a 3-band CIR mosaic. Those were merged together by TRRP into a single 4-band dataset. The data are projected in California State Plane Zone 1, the horizontal datum is </SPAN><SPAN>NAD83(Epoch 1992-1991.35 Adjustment) and units are in US survey feet. </SPAN><SPAN>The acquisition flight parameters were designed to yield a native pixel resolution of 0.5 ft. Orthoimagery was collected by the Yurok Tribe on 2022-06-24.</SPAN></P><P><SPAN /></P></DIV></DIV></DIV>
Service Item Id: d97d9ff9f92a4ac6b3a55cb339be95e6
Copyright Text: Yurok Tribe, Trinity River Restoration Program
Spatial Reference:
102100
(3857)
LatestVCSWkid(0)
Single Fused Map Cache: true
Tile Info:
- Height: 256.0
- Width: 256.0
- DPI: 96.0
-
Levels of Detail: 24
-
Level ID: 1
[ Start Tile, End Tile ]
- Resolution: 78271.5169639999
- Scale: 2.95828763795777E8
-
Level ID: 2
[ Start Tile, End Tile ]
- Resolution: 39135.7584820001
- Scale: 1.47914381897889E8
-
Level ID: 3
[ Start Tile, End Tile ]
- Resolution: 19567.8792409999
- Scale: 7.3957190948944E7
-
Level ID: 4
[ Start Tile, End Tile ]
- Resolution: 9783.93962049996
- Scale: 3.6978595474472E7
-
Level ID: 5
[ Start Tile, End Tile ]
- Resolution: 4891.96981024998
- Scale: 1.8489297737236E7
- Format: Mixed
- Compression Quality: 75.0
- Origin: X: -2.0037508342787E7
Y: 2.0037508342787E7
- Spatial Reference: 102100
(3857)
LatestVCSWkid(0)
Initial Extent:
XMin: -1.3697607434156688E7
YMin: 4969376.468282062
XMax: -1.3697167566521117E7
YMax: 4970103.648303873
Spatial Reference: 102100
(0)
LatestVCSWkid(0)
Full Extent:
XMin: -1.3706660631756943E7
YMin: 4959078.346949991
XMax: -1.3668166184154458E7
YMax: 4979512.730690143
Spatial Reference: 102100
(0)
LatestVCSWkid(0)
Units: esriMeters
Supported Image Format Types: PNG32,PNG24,PNG,JPG,DIB,TIFF,EMF,PS,PDF,GIF,SVG,SVGZ,BMP
Document Info:
Title: D:\Projects\TRRP\TRRP Publish 2022\TRRP Publish 2022.aprx
Author:
Comments:
Subject:
Category:
Keywords:
AntialiasingMode: None
TextAntialiasingMode: Force
Supports Dynamic Layers: false
MaxRecordCount: 1000
MaxSelectionCount: 0
MaxImageHeight: 4096
MaxImageWidth: 4096
Supported Query Formats: JSON, geoJSON, PBF
Supports Query Data Elements: true
Min Scale: 577790.554289
Max Scale: 2256.994353
Min LOD: 10
Max LOD: 18
Supports Datum Transformation: true
Child Resources:
Info
Supported Operations:
QueryLegends
Return Updates